BEGIN:VCALENDAR
VERSION:2.0
PRODID:-//www.sendcaa.org//NONSGML kigkonsult.se iCalcreator 2.30.10//
CALSCALE:GREGORIAN
METHOD:PUBLISH
UID:a2418ddf-1893-4561-a35b-49073df2a1fa
X-WR-CALDESC:
X-WR-RELCALID:d10069f8c283cbb2fc50e93f9268d397
X-WR-TIMEZONE:America/Chicago
BEGIN:VTIMEZONE
TZID:America/Chicago
BEGIN:STANDARD
TZNAME:CST
DTSTART:20201101T020000
TZOFFSETFROM:-0500
TZOFFSETTO:-0600
RDATE:20211107T020000
END:STANDARD
BEGIN:DAYLIGHT
TZNAME:CDT
DTSTART:20200308T020000
TZOFFSETFROM:-0600
TZOFFSETTO:-0500
RDATE:20210314T020000
RDATE:20220313T020000
END:DAYLIGHT
END:VTIMEZONE
BEGIN:VEVENT
UID:1e675a94-d498-4cbf-9d10-3329eff35637
DTSTAMP:20260425T131408Z
DESCRIPTION:
DTSTART;TZID=America/Chicago:20201103T000000
DTEND;TZID=America/Chicago:20201103T235900
LOCATION:
SUMMARY:CACFP Menus Due
END:VEVENT
END:VCALENDAR
