BEGIN:VCALENDAR
VERSION:2.0
PRODID:-//www.sendcaa.org//NONSGML kigkonsult.se iCalcreator 2.30.10//
CALSCALE:GREGORIAN
METHOD:PUBLISH
UID:e0ee634f-4cd6-4260-9631-3865db6b5241
X-WR-CALDESC:
X-WR-RELCALID:eb9f21715a3f81fbfdfb95cce493315f
X-WR-TIMEZONE:America/Chicago
BEGIN:VTIMEZONE
TZID:America/Chicago
BEGIN:STANDARD
TZNAME:CST
DTSTART:20251102T020000
TZOFFSETFROM:-0500
TZOFFSETTO:-0600
RDATE:20261101T020000
END:STANDARD
BEGIN:DAYLIGHT
TZNAME:CDT
DTSTART:20260308T020000
TZOFFSETFROM:-0600
TZOFFSETTO:-0500
RDATE:20270314T020000
END:DAYLIGHT
END:VTIMEZONE
BEGIN:VEVENT
UID:ff7de5ee-cabe-4bd0-859d-af8cc4e18877
DTSTAMP:20260422T103528Z
DESCRIPTION:
DTSTART;TZID=America/Chicago:20260403T000000
DTEND;TZID=America/Chicago:20260403T235900
LOCATION:
SUMMARY:CACFP Menus Due
END:VEVENT
END:VCALENDAR
