BEGIN:VCALENDAR
VERSION:2.0
PRODID:-//www.sendcaa.org//NONSGML kigkonsult.se iCalcreator 2.30.10//
CALSCALE:GREGORIAN
METHOD:PUBLISH
UID:8ac49865-f659-49d0-942d-4061c27767d4
X-WR-CALDESC:Northwestern Mutual presents different financial topics each m
 onth at SENDCAA. The classes are held on the second Monday of the month fr
 om 5-6pm. There will be a drawing for a $100 gift card at each class. Plea
 se arrive at least 5 minutes early as class will start promptly at 5pm. Yo
 u may contact SENDCAA with any questions.
X-WR-RELCALID:0d610e2962ca79973024ff874f13c246
X-WR-TIMEZONE:America/Chicago
BEGIN:VTIMEZONE
TZID:America/Chicago
BEGIN:STANDARD
TZNAME:CST
DTSTART:20251102T020000
TZOFFSETFROM:-0500
TZOFFSETTO:-0600
RDATE:20261101T020000
END:STANDARD
BEGIN:DAYLIGHT
TZNAME:CDT
DTSTART:20260308T020000
TZOFFSETFROM:-0600
TZOFFSETTO:-0500
RDATE:20270314T020000
END:DAYLIGHT
END:VTIMEZONE
BEGIN:VEVENT
UID:a97225cf-b1bf-415e-8194-d9904303194f
DTSTAMP:20260422T115459Z
DESCRIPTION:Northwestern Mutual presents different financial topics each mo
 nth at SENDCAA. The classes are held on the second Monday of the month fro
 m 5-6pm. There will be a drawing for a $100 gift card at each class. Pleas
 e arrive at least 5 minutes early as class will start promptly at 5pm. You
  may contact SENDCAA with any questions.
DTSTART;TZID=America/Chicago:20260413T170000
DTEND;TZID=America/Chicago:20260413T180000
LOCATION:3233 South University Dr\, Fargo\, ND 58103 US
SUMMARY:SENDCAA & Northwestern Mutual Financial Education Class
END:VEVENT
END:VCALENDAR
